BEGIN:VCALENDAR
VERSION:2.0
PRODID:-//Joseph Smith, Sr. and Lucy Mack Smith Family Organization - ECPv6.15.20//NONSGML v1.0//EN
CALSCALE:GREGORIAN
METHOD:PUBLISH
X-WR-CALNAME:Joseph Smith, Sr. and Lucy Mack Smith Family Organization
X-ORIGINAL-URL:https://josephsmithsr.org
X-WR-CALDESC:Events for Joseph Smith, Sr. and Lucy Mack Smith Family Organization
REFRESH-INTERVAL;VALUE=DURATION:PT1H
X-Robots-Tag:noindex
X-PUBLISHED-TTL:PT1H
BEGIN:VTIMEZONE
TZID:America/Denver
BEGIN:DAYLIGHT
TZOFFSETFROM:-0700
TZOFFSETTO:-0600
TZNAME:MDT
DTSTART:20230312T090000
END:DAYLIGHT
BEGIN:STANDARD
TZOFFSETFROM:-0600
TZOFFSETTO:-0700
TZNAME:MST
DTSTART:20231105T080000
END:STANDARD
BEGIN:DAYLIGHT
TZOFFSETFROM:-0700
TZOFFSETTO:-0600
TZNAME:MDT
DTSTART:20240310T090000
END:DAYLIGHT
BEGIN:STANDARD
TZOFFSETFROM:-0600
TZOFFSETTO:-0700
TZNAME:MST
DTSTART:20241103T080000
END:STANDARD
BEGIN:DAYLIGHT
TZOFFSETFROM:-0700
TZOFFSETTO:-0600
TZNAME:MDT
DTSTART:20250309T090000
END:DAYLIGHT
BEGIN:STANDARD
TZOFFSETFROM:-0600
TZOFFSETTO:-0700
TZNAME:MST
DTSTART:20251102T080000
END:STANDARD
END:VTIMEZONE
BEGIN:VEVENT
DTSTART;TZID=America/Denver:20240802T090000
DTEND;TZID=America/Denver:20240802T100000
DTSTAMP:20260422T223714
CREATED:20240615T151219Z
LAST-MODIFIED:20240617T064040Z
UID:3953-1722589200-1722592800@josephsmithsr.org
SUMMARY:Smith Family Artifacts Tour
DESCRIPTION:Friday\, August 2nd we have the opportunity for a private tour of Smith Family Artifacts at the Church History Museum at 9:00 am before the public is welcome. \nShare this:\n				Email a link to a friend (Opens in new window)\n				Email\n			\n				Print (Opens in new window)\n				Print\n			\n				Share on Facebook (Opens in new window)\n				Facebook\n			\n				Share on LinkedIn (Opens in new window)\n				LinkedIn\n			\n				Share on Reddit (Opens in new window)\n				Reddit\n			\n				Share on X (Opens in new window)\n				X\n			\n				Share on Tumblr (Opens in new window)\n				Tumblr\n			\n				Share on Pinterest (Opens in new window)\n				Pinterest\n			\n				Share on Telegram (Opens in new window)\n				Telegram\n			\n				Share on WhatsApp (Opens in new window)\n				WhatsApp
URL:https://josephsmithsr.org/event/smith-family-artifacts-tour-2/
LOCATION:Church History Museum\, 45 N W Temple St\, \, UT 84150\, Salt Lake City\, UT\, 84150\, United States
CATEGORIES:Smith Family Reunion 2024
ATTACH;FMTTYPE=image/jpeg:https://josephsmithsr.org/wp-content/uploads/2024/06/ChurchHistoryMuseum_c8145b48-d9f4-4098-897a-24984471858f.jpg
ORGANIZER;CN="Frances Orton":MAILTO:ortonfrances@gmail.com
END:VEVENT
END:VCALENDAR