BEGIN:VCALENDAR
VERSION:2.0
PRODID:-//Joseph Smith, Sr. and Lucy Mack Smith Family Organization - ECPv6.15.20//NONSGML v1.0//EN
CALSCALE:GREGORIAN
METHOD:PUBLISH
X-WR-CALNAME:Joseph Smith, Sr. and Lucy Mack Smith Family Organization
X-ORIGINAL-URL:https://josephsmithsr.org
X-WR-CALDESC:Events for Joseph Smith, Sr. and Lucy Mack Smith Family Organization
REFRESH-INTERVAL;VALUE=DURATION:PT1H
X-Robots-Tag:noindex
X-PUBLISHED-TTL:PT1H
BEGIN:VTIMEZONE
TZID:America/Denver
BEGIN:DAYLIGHT
TZOFFSETFROM:-0700
TZOFFSETTO:-0600
TZNAME:MDT
DTSTART:20230312T090000
END:DAYLIGHT
BEGIN:STANDARD
TZOFFSETFROM:-0600
TZOFFSETTO:-0700
TZNAME:MST
DTSTART:20231105T080000
END:STANDARD
BEGIN:DAYLIGHT
TZOFFSETFROM:-0700
TZOFFSETTO:-0600
TZNAME:MDT
DTSTART:20240310T090000
END:DAYLIGHT
BEGIN:STANDARD
TZOFFSETFROM:-0600
TZOFFSETTO:-0700
TZNAME:MST
DTSTART:20241103T080000
END:STANDARD
BEGIN:DAYLIGHT
TZOFFSETFROM:-0700
TZOFFSETTO:-0600
TZNAME:MDT
DTSTART:20250309T090000
END:DAYLIGHT
BEGIN:STANDARD
TZOFFSETFROM:-0600
TZOFFSETTO:-0700
TZNAME:MST
DTSTART:20251102T080000
END:STANDARD
END:VTIMEZONE
BEGIN:VEVENT
DTSTART;TZID=America/Denver:20240804T090000
DTEND;TZID=America/Denver:20240804T100000
DTSTAMP:20260422T190018
CREATED:20240617T065855Z
LAST-MODIFIED:20240618T060736Z
UID:4018-1722762000-1722765600@josephsmithsr.org
SUMMARY:Music and the Spoken Word
DESCRIPTION:Sunday\, August 4\, Music and the Spoken Word. The family will gather at 9:00 a.m.\, 30 minutes before the 9:30 program.\n\nShare this:\n				Email a link to a friend (Opens in new window)\n				Email\n			\n				Print (Opens in new window)\n				Print\n			\n				Share on Facebook (Opens in new window)\n				Facebook\n			\n				Share on LinkedIn (Opens in new window)\n				LinkedIn\n			\n				Share on Reddit (Opens in new window)\n				Reddit\n			\n				Share on X (Opens in new window)\n				X\n			\n				Share on Tumblr (Opens in new window)\n				Tumblr\n			\n				Share on Pinterest (Opens in new window)\n				Pinterest\n			\n				Share on Telegram (Opens in new window)\n				Telegram\n			\n				Share on WhatsApp (Opens in new window)\n				WhatsApp
URL:https://josephsmithsr.org/event/music-and-the-spoken-word/
LOCATION:Conference Center\, 60 N Temple\, Salt Lake City\, Utah\, 84150\, United States
CATEGORIES:Smith Family Reunion 2024
ATTACH;FMTTYPE=image/png:https://josephsmithsr.org/wp-content/uploads/2024/06/IMG_4296.png
ORGANIZER;CN="Frances Orton":MAILTO:ortonfrances@gmail.com
END:VEVENT
BEGIN:VEVENT
DTSTART;TZID=America/Denver:20240803T100000
DTEND;TZID=America/Denver:20240803T160000
DTSTAMP:20260422T190018
CREATED:20240617T062756Z
LAST-MODIFIED:20240618T055651Z
UID:4010-1722679200-1722700800@josephsmithsr.org
SUMMARY:Service Project
DESCRIPTION:We will have our service project starting at 10:00 a.m.\, located at West High School at 241 North 300 West\, Salt Lake City\, Utah.\nFamily picnic\nFamily photo\n\nShare this:\n				Email a link to a friend (Opens in new window)\n				Email\n			\n				Print (Opens in new window)\n				Print\n			\n				Share on Facebook (Opens in new window)\n				Facebook\n			\n				Share on LinkedIn (Opens in new window)\n				LinkedIn\n			\n				Share on Reddit (Opens in new window)\n				Reddit\n			\n				Share on X (Opens in new window)\n				X\n			\n				Share on Tumblr (Opens in new window)\n				Tumblr\n			\n				Share on Pinterest (Opens in new window)\n				Pinterest\n			\n				Share on Telegram (Opens in new window)\n				Telegram\n			\n				Share on WhatsApp (Opens in new window)\n				WhatsApp
URL:https://josephsmithsr.org/event/service-project/
LOCATION:West High School\, 241 North 300 West\, Salt Lake City\, UT\, 84103\, United States
CATEGORIES:Smith Family Reunion 2024
ATTACH;FMTTYPE=image/jpeg:https://josephsmithsr.org/wp-content/uploads/2024/06/west-high-school-banner-2.jpg
END:VEVENT
BEGIN:VEVENT
DTSTART;TZID=America/Denver:20240802T190000
DTEND;TZID=America/Denver:20240802T210000
DTSTAMP:20260422T190018
CREATED:20240617T061928Z
LAST-MODIFIED:20240617T072948Z
UID:4008-1722625200-1722632400@josephsmithsr.org
SUMMARY:Family Devotional
DESCRIPTION:Brad Wilcox is the family devotional speaker. \nShare this:\n				Email a link to a friend (Opens in new window)\n				Email\n			\n				Print (Opens in new window)\n				Print\n			\n				Share on Facebook (Opens in new window)\n				Facebook\n			\n				Share on LinkedIn (Opens in new window)\n				LinkedIn\n			\n				Share on Reddit (Opens in new window)\n				Reddit\n			\n				Share on X (Opens in new window)\n				X\n			\n				Share on Tumblr (Opens in new window)\n				Tumblr\n			\n				Share on Pinterest (Opens in new window)\n				Pinterest\n			\n				Share on Telegram (Opens in new window)\n				Telegram\n			\n				Share on WhatsApp (Opens in new window)\n				WhatsApp
URL:https://josephsmithsr.org/event/family-devotional/
LOCATION:The Church of Jesus Christ of Latter-day Saints\, 110 Social Hall Avenue\, Salt Lake City\, UT\, 84111\, United States
CATEGORIES:Smith Family Reunion 2024
ATTACH;FMTTYPE=image/jpeg:https://josephsmithsr.org/wp-content/uploads/2024/06/1D8A4231-scaled.jpg
ORGANIZER;CN="Frances Orton":MAILTO:ortonfrances@gmail.com
END:VEVENT
BEGIN:VEVENT
DTSTART;TZID=America/Denver:20240802T100000
DTEND;TZID=America/Denver:20240802T170000
DTSTAMP:20260422T190018
CREATED:20240615T051412Z
LAST-MODIFIED:20240617T072637Z
UID:3918-1722592800-1722618000@josephsmithsr.org
SUMMARY:Smith Family Papers Viewing
DESCRIPTION:Sign up for a time slot. There are only 30 people per time slot. Please arrive to the courtyard in front of the Church History Library 10 minutes prior to sign up time.\n\n\n\nShare this:\n				Email a link to a friend (Opens in new window)\n				Email\n			\n				Print (Opens in new window)\n				Print\n			\n				Share on Facebook (Opens in new window)\n				Facebook\n			\n				Share on LinkedIn (Opens in new window)\n				LinkedIn\n			\n				Share on Reddit (Opens in new window)\n				Reddit\n			\n				Share on X (Opens in new window)\n				X\n			\n				Share on Tumblr (Opens in new window)\n				Tumblr\n			\n				Share on Pinterest (Opens in new window)\n				Pinterest\n			\n				Share on Telegram (Opens in new window)\n				Telegram\n			\n				Share on WhatsApp (Opens in new window)\n				WhatsApp
URL:https://josephsmithsr.org/event/smith-family-artifacts-tour/
LOCATION:Church History Library\, 15 E North Temple\, Salt Lake City\, Utah\, 84150\, United States
CATEGORIES:Smith Family Reunion 2024
ATTACH;FMTTYPE=image/jpeg:https://josephsmithsr.org/wp-content/uploads/2024/06/church-history-library.jpeg
ORGANIZER;CN="Frances Orton":MAILTO:ortonfrances@gmail.com
END:VEVENT
BEGIN:VEVENT
DTSTART;TZID=America/Denver:20240802T090000
DTEND;TZID=America/Denver:20240802T100000
DTSTAMP:20260422T190018
CREATED:20240615T151219Z
LAST-MODIFIED:20240617T064040Z
UID:3953-1722589200-1722592800@josephsmithsr.org
SUMMARY:Smith Family Artifacts Tour
DESCRIPTION:Friday\, August 2nd we have the opportunity for a private tour of Smith Family Artifacts at the Church History Museum at 9:00 am before the public is welcome. \nShare this:\n				Email a link to a friend (Opens in new window)\n				Email\n			\n				Print (Opens in new window)\n				Print\n			\n				Share on Facebook (Opens in new window)\n				Facebook\n			\n				Share on LinkedIn (Opens in new window)\n				LinkedIn\n			\n				Share on Reddit (Opens in new window)\n				Reddit\n			\n				Share on X (Opens in new window)\n				X\n			\n				Share on Tumblr (Opens in new window)\n				Tumblr\n			\n				Share on Pinterest (Opens in new window)\n				Pinterest\n			\n				Share on Telegram (Opens in new window)\n				Telegram\n			\n				Share on WhatsApp (Opens in new window)\n				WhatsApp
URL:https://josephsmithsr.org/event/smith-family-artifacts-tour-2/
LOCATION:Church History Museum\, 45 N W Temple St\, \, UT 84150\, Salt Lake City\, UT\, 84150\, United States
CATEGORIES:Smith Family Reunion 2024
ATTACH;FMTTYPE=image/jpeg:https://josephsmithsr.org/wp-content/uploads/2024/06/ChurchHistoryMuseum_c8145b48-d9f4-4098-897a-24984471858f.jpg
ORGANIZER;CN="Frances Orton":MAILTO:ortonfrances@gmail.com
END:VEVENT
BEGIN:VEVENT
DTSTART;TZID=America/Denver:20240801T170000
DTEND;TZID=America/Denver:20240801T203000
DTSTAMP:20260422T190018
CREATED:20240617T061530Z
LAST-MODIFIED:20240617T064618Z
UID:4002-1722531600-1722544200@josephsmithsr.org
SUMMARY:Registration
DESCRIPTION:Registration begins at 5:00 to 6:30 p.m.\nThe traditional “Meet and Greet” is from 7:00 to 8:30 p.m.\n\nName-tags will need to be picked up on Thursday to use throughout the reunion.\nThe scholarship winners will be announced.\nNew findings from the research on the Joseph Smith Daguerreotype will be presented.\n\nShare this:\n				Email a link to a friend (Opens in new window)\n				Email\n			\n				Print (Opens in new window)\n				Print\n			\n				Share on Facebook (Opens in new window)\n				Facebook\n			\n				Share on LinkedIn (Opens in new window)\n				LinkedIn\n			\n				Share on Reddit (Opens in new window)\n				Reddit\n			\n				Share on X (Opens in new window)\n				X\n			\n				Share on Tumblr (Opens in new window)\n				Tumblr\n			\n				Share on Pinterest (Opens in new window)\n				Pinterest\n			\n				Share on Telegram (Opens in new window)\n				Telegram\n			\n				Share on WhatsApp (Opens in new window)\n				WhatsApp
URL:https://josephsmithsr.org/event/registration/
LOCATION:The Church of Jesus Christ of Latter-day Saints\, 110 Social Hall Avenue\, Salt Lake City\, UT\, 84111\, United States
CATEGORIES:Smith Family Reunion 2024
ATTACH;FMTTYPE=image/jpeg:https://josephsmithsr.org/wp-content/uploads/2024/06/110-Social-Hall-Ave.jpeg
ORGANIZER;CN="Frances Orton":MAILTO:ortonfrances@gmail.com
END:VEVENT
END:VCALENDAR