BEGIN:VCALENDAR
VERSION:2.0
PRODID:-//Joseph Smith, Sr. and Lucy Mack Smith Family Organization - ECPv6.15.20//NONSGML v1.0//EN
CALSCALE:GREGORIAN
METHOD:PUBLISH
X-WR-CALNAME:Joseph Smith, Sr. and Lucy Mack Smith Family Organization
X-ORIGINAL-URL:https://josephsmithsr.org
X-WR-CALDESC:Events for Joseph Smith, Sr. and Lucy Mack Smith Family Organization
REFRESH-INTERVAL;VALUE=DURATION:PT1H
X-Robots-Tag:noindex
X-PUBLISHED-TTL:PT1H
BEGIN:VTIMEZONE
TZID:America/New_York
BEGIN:DAYLIGHT
TZOFFSETFROM:-0500
TZOFFSETTO:-0400
TZNAME:EDT
DTSTART:20250309T070000
END:DAYLIGHT
BEGIN:STANDARD
TZOFFSETFROM:-0400
TZOFFSETTO:-0500
TZNAME:EST
DTSTART:20251102T060000
END:STANDARD
BEGIN:DAYLIGHT
TZOFFSETFROM:-0500
TZOFFSETTO:-0400
TZNAME:EDT
DTSTART:20260308T070000
END:DAYLIGHT
BEGIN:STANDARD
TZOFFSETFROM:-0400
TZOFFSETTO:-0500
TZNAME:EST
DTSTART:20261101T060000
END:STANDARD
BEGIN:DAYLIGHT
TZOFFSETFROM:-0500
TZOFFSETTO:-0400
TZNAME:EDT
DTSTART:20270314T070000
END:DAYLIGHT
BEGIN:STANDARD
TZOFFSETFROM:-0400
TZOFFSETTO:-0500
TZNAME:EST
DTSTART:20271107T060000
END:STANDARD
END:VTIMEZONE
BEGIN:VEVENT
DTSTART;TZID=America/New_York:20260730T170000
DTEND;TZID=America/New_York:20260730T203000
DTSTAMP:20260419T221242
CREATED:20260103T052220Z
LAST-MODIFIED:20260103T052220Z
UID:6185-1785430800-1785443400@josephsmithsr.org
SUMMARY:Registration
DESCRIPTION:Registration begins at 5:00 p.m. to 6:30 p.m.\nThe traditional “Meet and Greet” is from 7:00 to 8:30 p.m.\nName tags will need to be picked up on Thursday to use throughout the reunion.\nThe scholarship winners will be announced.\n\nShare this:\n				Email a link to a friend (Opens in new window)\n				Email\n			\n				Print (Opens in new window)\n				Print\n			\n				Share on Facebook (Opens in new window)\n				Facebook\n			\n				Share on LinkedIn (Opens in new window)\n				LinkedIn\n			\n				Share on Reddit (Opens in new window)\n				Reddit\n			\n				Share on X (Opens in new window)\n				X\n			\n				Share on Tumblr (Opens in new window)\n				Tumblr\n			\n				Share on Pinterest (Opens in new window)\n				Pinterest\n			\n				Share on Telegram (Opens in new window)\n				Telegram\n			\n				Share on WhatsApp (Opens in new window)\n				WhatsApp
URL:https://josephsmithsr.org/event/registration-2/
LOCATION:The Church of Jesus Christ of Latter-day Saints\, 8751 Kirtland Rd\, Kirtland\, OH\, 44094\, United States
CATEGORIES:Smith Family Reunion 2026
ATTACH;FMTTYPE=image/jpeg:https://josephsmithsr.org/wp-content/uploads/2025/12/kirtland-stake-center.jpg
ORGANIZER;CN="Frances Orton":MAILTO:ortonfrances@gmail.com
END:VEVENT
END:VCALENDAR